BEGIN:VCALENDAR
VERSION:2.0
PRODID:-//Warriors Soar - ECPv6.15.20//NONSGML v1.0//EN
CALSCALE:GREGORIAN
METHOD:PUBLISH
X-WR-CALNAME:Warriors Soar
X-ORIGINAL-URL:https://warriorssoar.org
X-WR-CALDESC:Events for Warriors Soar
REFRESH-INTERVAL;VALUE=DURATION:PT1H
X-Robots-Tag:noindex
X-PUBLISHED-TTL:PT1H
BEGIN:VTIMEZONE
TZID:America/New_York
BEGIN:DAYLIGHT
TZOFFSETFROM:-0500
TZOFFSETTO:-0400
TZNAME:EDT
DTSTART:20230312T070000
END:DAYLIGHT
BEGIN:STANDARD
TZOFFSETFROM:-0400
TZOFFSETTO:-0500
TZNAME:EST
DTSTART:20231105T060000
END:STANDARD
BEGIN:DAYLIGHT
TZOFFSETFROM:-0500
TZOFFSETTO:-0400
TZNAME:EDT
DTSTART:20240310T070000
END:DAYLIGHT
BEGIN:STANDARD
TZOFFSETFROM:-0400
TZOFFSETTO:-0500
TZNAME:EST
DTSTART:20241103T060000
END:STANDARD
BEGIN:DAYLIGHT
TZOFFSETFROM:-0500
TZOFFSETTO:-0400
TZNAME:EDT
DTSTART:20250309T070000
END:DAYLIGHT
BEGIN:STANDARD
TZOFFSETFROM:-0400
TZOFFSETTO:-0500
TZNAME:EST
DTSTART:20251102T060000
END:STANDARD
END:VTIMEZONE
BEGIN:VEVENT
DTSTART;TZID=America/New_York:20240620T100000
DTEND;TZID=America/New_York:20240620T150000
DTSTAMP:20260420T104946
CREATED:20240430T192229Z
LAST-MODIFIED:20240523T130742Z
UID:10000213-1718877600-1718895600@warriorssoar.org
SUMMARY:Sailing on Lake Champlain - June 20
DESCRIPTION:RSVP to reserve your spot for sailing on Lake Champlain. Weather permitting. \nFor Warriors Soar Members only.
URL:https://warriorssoar.org/event/sailing-on-lake-champlain-june-20/
LOCATION:Malletts Bay Marina\, 332 Lakeshore Drive\, Colchester\, 05446\, United States
CATEGORIES:Sailing
ORGANIZER;CN="Brian Decatur":MAILTO:brian@warriorssoar.org
END:VEVENT
BEGIN:VEVENT
DTSTART;TZID=America/New_York:20240613T100000
DTEND;TZID=America/New_York:20240613T150000
DTSTAMP:20260420T104946
CREATED:20240430T191528Z
LAST-MODIFIED:20240610T181323Z
UID:10000212-1718272800-1718290800@warriorssoar.org
SUMMARY:Sailing on Lake Champlain - June 13
DESCRIPTION:RSVP to reserve your spot for sailing on Lake Champlain. Weather permitting. \nFor Warriors Soar Members only.
URL:https://warriorssoar.org/event/sailing-on-lake-champlain-june-13/
LOCATION:Malletts Bay Marina\, 332 Lakeshore Drive\, Colchester\, 05446\, United States
CATEGORIES:Sailing
ORGANIZER;CN="Brian Decatur":MAILTO:brian@warriorssoar.org
END:VEVENT
BEGIN:VEVENT
DTSTART;TZID=America/New_York:20240606T100000
DTEND;TZID=America/New_York:20240606T150000
DTSTAMP:20260420T104946
CREATED:20240430T191417Z
LAST-MODIFIED:20240530T201540Z
UID:10000211-1717668000-1717686000@warriorssoar.org
SUMMARY:Sailing on Lake Champlain - June 6
DESCRIPTION:RSVP to reserve your spot for sailing on Lake Champlain. Weather permitting. \nFor Warriors Soar Members only.
URL:https://warriorssoar.org/event/sailing-on-lake-champlain-june-6/
LOCATION:Malletts Bay Marina\, 332 Lakeshore Drive\, Colchester\, 05446\, United States
CATEGORIES:Sailing
ORGANIZER;CN="Brian Decatur":MAILTO:brian@warriorssoar.org
END:VEVENT
BEGIN:VEVENT
DTSTART;TZID=America/New_York:20240530T100000
DTEND;TZID=America/New_York:20240530T150000
DTSTAMP:20260420T104946
CREATED:20240430T191306Z
LAST-MODIFIED:20240523T131047Z
UID:10000210-1717063200-1717081200@warriorssoar.org
SUMMARY:Sailing on Lake Champlain - May 30
DESCRIPTION:RSVP to reserve your spot for sailing on Lake Champlain. Weather permitting. \nFor Warriors Soar Members only.
URL:https://warriorssoar.org/event/sailing-on-lake-champlain-may-30/
LOCATION:Malletts Bay Marina\, 332 Lakeshore Drive\, Colchester\, 05446\, United States
CATEGORIES:Sailing
ORGANIZER;CN="Brian Decatur":MAILTO:brian@warriorssoar.org
END:VEVENT
BEGIN:VEVENT
DTSTART;TZID=America/New_York:20240523T100000
DTEND;TZID=America/New_York:20240523T150000
DTSTAMP:20260420T104946
CREATED:20240430T191153Z
LAST-MODIFIED:20240430T192039Z
UID:10000209-1716458400-1716476400@warriorssoar.org
SUMMARY:Sailing on Lake Champlain - May 23
DESCRIPTION:RSVP to reserve your spot for sailing on Lake Champlain. Weather permitting. \nFor Warriors Soar Members only.
URL:https://warriorssoar.org/event/sailing-on-lake-champlain-may-23/
LOCATION:Malletts Bay Marina\, 332 Lakeshore Drive\, Colchester\, 05446\, United States
CATEGORIES:Sailing
ORGANIZER;CN="Brian Decatur":MAILTO:brian@warriorssoar.org
END:VEVENT
BEGIN:VEVENT
DTSTART;TZID=America/New_York:20240516T100000
DTEND;TZID=America/New_York:20240516T150000
DTSTAMP:20260420T104946
CREATED:20240329T201256Z
LAST-MODIFIED:20240430T192133Z
UID:10000207-1715853600-1715871600@warriorssoar.org
SUMMARY:Sailing on Lake Champlain - May 16
DESCRIPTION:RSVP to reserve your spot for sailing on Lake Champlain. Weather permitting. \nFor Warriors Soar Members only.
URL:https://warriorssoar.org/event/sailing-on-lake-champlain-may-16/
LOCATION:Malletts Bay Marina\, 332 Lakeshore Drive\, Colchester\, 05446\, United States
CATEGORIES:Sailing
ORGANIZER;CN="Brian Decatur":MAILTO:brian@warriorssoar.org
END:VEVENT
END:VCALENDAR