BEGIN:VCALENDAR
VERSION:2.0
PRODID:-//Warriors Soar - ECPv6.15.20//NONSGML v1.0//EN
CALSCALE:GREGORIAN
METHOD:PUBLISH
X-ORIGINAL-URL:https://warriorssoar.org
X-WR-CALDESC:Events for Warriors Soar
REFRESH-INTERVAL;VALUE=DURATION:PT1H
X-Robots-Tag:noindex
X-PUBLISHED-TTL:PT1H
BEGIN:VTIMEZONE
TZID:America/New_York
BEGIN:DAYLIGHT
TZOFFSETFROM:-0500
TZOFFSETTO:-0400
TZNAME:EDT
DTSTART:20240310T070000
END:DAYLIGHT
BEGIN:STANDARD
TZOFFSETFROM:-0400
TZOFFSETTO:-0500
TZNAME:EST
DTSTART:20241103T060000
END:STANDARD
BEGIN:DAYLIGHT
TZOFFSETFROM:-0500
TZOFFSETTO:-0400
TZNAME:EDT
DTSTART:20250309T070000
END:DAYLIGHT
BEGIN:STANDARD
TZOFFSETFROM:-0400
TZOFFSETTO:-0500
TZNAME:EST
DTSTART:20251102T060000
END:STANDARD
BEGIN:DAYLIGHT
TZOFFSETFROM:-0500
TZOFFSETTO:-0400
TZNAME:EDT
DTSTART:20260308T070000
END:DAYLIGHT
BEGIN:STANDARD
TZOFFSETFROM:-0400
TZOFFSETTO:-0500
TZNAME:EST
DTSTART:20261101T060000
END:STANDARD
END:VTIMEZONE
BEGIN:VEVENT
DTSTART;TZID=America/New_York:20251213T180000
DTEND;TZID=America/New_York:20251213T210000
DTSTAMP:20260421T104449
CREATED:20240928T171733Z
LAST-MODIFIED:20251023T151406Z
UID:10000295-1765648800-1765659600@warriorssoar.org
SUMMARY:Hockey Game: UVM vs. Army - Dec 13
DESCRIPTION:RSVP to reserve tickets. \nFor Warriors Soar Members only. We have two tickets available for each home game at UVM. After reservation\, please see your confirmation email for more information on pickup at Will Call on game day.
URL:https://warriorssoar.org/event/hockey-game-uvm-vs-army-dec-13/
LOCATION:UVM Gutterson Fieldhouse\, 97 Spear Street\, Burlington\, VT\, 05405\, United States
CATEGORIES:Hockey Tickets
ORGANIZER;CN="Shannon Blake":MAILTO:shannon@warriorssoar.org
END:VEVENT
BEGIN:VEVENT
DTSTART;TZID=America/New_York:20251229T180000
DTEND;TZID=America/New_York:20251229T210000
DTSTAMP:20260421T104449
CREATED:20240928T171619Z
LAST-MODIFIED:20250929T165515Z
UID:10000294-1767031200-1767042000@warriorssoar.org
SUMMARY:Hockey Game: UVM vs. Merrimack - Dec 29
DESCRIPTION:RSVP to reserve tickets. \nFor Warriors Soar Members only. We have two tickets available for each home game at UVM. After reservation\, please see your confirmation email for more information on pickup at Will Call on game day.
URL:https://warriorssoar.org/event/hockey-game-uvm-vs-merrimack-dec-29/
LOCATION:UVM Gutterson Fieldhouse\, 97 Spear Street\, Burlington\, VT\, 05405\, United States
CATEGORIES:Hockey Tickets
ORGANIZER;CN="Shannon Blake":MAILTO:shannon@warriorssoar.org
END:VEVENT
END:VCALENDAR