BEGIN:VCALENDAR
VERSION:2.0
PRODID:-//Warriors Soar - ECPv6.15.20//NONSGML v1.0//EN
CALSCALE:GREGORIAN
METHOD:PUBLISH
X-WR-CALNAME:Warriors Soar
X-ORIGINAL-URL:https://warriorssoar.org
X-WR-CALDESC:Events for Warriors Soar
REFRESH-INTERVAL;VALUE=DURATION:PT1H
X-Robots-Tag:noindex
X-PUBLISHED-TTL:PT1H
BEGIN:VTIMEZONE
TZID:America/New_York
BEGIN:DAYLIGHT
TZOFFSETFROM:-0500
TZOFFSETTO:-0400
TZNAME:EDT
DTSTART:20240310T070000
END:DAYLIGHT
BEGIN:STANDARD
TZOFFSETFROM:-0400
TZOFFSETTO:-0500
TZNAME:EST
DTSTART:20241103T060000
END:STANDARD
BEGIN:DAYLIGHT
TZOFFSETFROM:-0500
TZOFFSETTO:-0400
TZNAME:EDT
DTSTART:20250309T070000
END:DAYLIGHT
BEGIN:STANDARD
TZOFFSETFROM:-0400
TZOFFSETTO:-0500
TZNAME:EST
DTSTART:20251102T060000
END:STANDARD
BEGIN:DAYLIGHT
TZOFFSETFROM:-0500
TZOFFSETTO:-0400
TZNAME:EDT
DTSTART:20260308T070000
END:DAYLIGHT
BEGIN:STANDARD
TZOFFSETFROM:-0400
TZOFFSETTO:-0500
TZNAME:EST
DTSTART:20261101T060000
END:STANDARD
END:VTIMEZONE
BEGIN:VEVENT
DTSTART;TZID=America/New_York:20251010T190000
DTEND;TZID=America/New_York:20251010T220000
DTSTAMP:20260419T141021
CREATED:20240928T172341Z
LAST-MODIFIED:20250929T163733Z
UID:10000299-1760122800-1760133600@warriorssoar.org
SUMMARY:Hockey Game: UVM vs. St. Lawrence - Oct 10
DESCRIPTION:RSVP to reserve tickets. \nFor Warriors Soar Members only. We have two tickets available for each home game at UVM. After reservation\, please see your confirmation email for more information on pickup at Will Call on game day.
URL:https://warriorssoar.org/event/hockey-game-uvm-vs-st-lawrence-oct-10/
LOCATION:UVM Gutterson Fieldhouse\, 97 Spear Street\, Burlington\, VT\, 05405\, United States
CATEGORIES:Hockey Tickets
ORGANIZER;CN="Shannon Blake":MAILTO:shannon@warriorssoar.org
END:VEVENT
END:VCALENDAR