BEGIN:VCALENDAR
VERSION:2.0
PRODID:-//Warriors Soar - ECPv6.15.20//NONSGML v1.0//EN
CALSCALE:GREGORIAN
METHOD:PUBLISH
X-ORIGINAL-URL:https://warriorssoar.org
X-WR-CALDESC:Events for Warriors Soar
REFRESH-INTERVAL;VALUE=DURATION:PT1H
X-Robots-Tag:noindex
X-PUBLISHED-TTL:PT1H
BEGIN:VTIMEZONE
TZID:America/New_York
BEGIN:DAYLIGHT
TZOFFSETFROM:-0500
TZOFFSETTO:-0400
TZNAME:EDT
DTSTART:20230312T070000
END:DAYLIGHT
BEGIN:STANDARD
TZOFFSETFROM:-0400
TZOFFSETTO:-0500
TZNAME:EST
DTSTART:20231105T060000
END:STANDARD
BEGIN:DAYLIGHT
TZOFFSETFROM:-0500
TZOFFSETTO:-0400
TZNAME:EDT
DTSTART:20240310T070000
END:DAYLIGHT
BEGIN:STANDARD
TZOFFSETFROM:-0400
TZOFFSETTO:-0500
TZNAME:EST
DTSTART:20241103T060000
END:STANDARD
BEGIN:DAYLIGHT
TZOFFSETFROM:-0500
TZOFFSETTO:-0400
TZNAME:EDT
DTSTART:20250309T070000
END:DAYLIGHT
BEGIN:STANDARD
TZOFFSETFROM:-0400
TZOFFSETTO:-0500
TZNAME:EST
DTSTART:20251102T060000
END:STANDARD
BEGIN:DAYLIGHT
TZOFFSETFROM:-0500
TZOFFSETTO:-0400
TZNAME:EDT
DTSTART:20260308T070000
END:DAYLIGHT
BEGIN:STANDARD
TZOFFSETFROM:-0400
TZOFFSETTO:-0500
TZNAME:EST
DTSTART:20261101T060000
END:STANDARD
BEGIN:DAYLIGHT
TZOFFSETFROM:-0500
TZOFFSETTO:-0400
TZNAME:EDT
DTSTART:20270314T070000
END:DAYLIGHT
BEGIN:STANDARD
TZOFFSETFROM:-0400
TZOFFSETTO:-0500
TZNAME:EST
DTSTART:20271107T060000
END:STANDARD
END:VTIMEZONE
BEGIN:VEVENT
DTSTART;TZID=America/New_York:20260125T090000
DTEND;TZID=America/New_York:20260125T150000
DTSTAMP:20260420T101702
CREATED:20250825T163139Z
LAST-MODIFIED:20250825T163510Z
UID:10000374-1769331600-1769353200@warriorssoar.org
SUMMARY:2026 Arizona Golf Tournament - January 25
DESCRIPTION:Join us for this annual golf classic to benefit WARRIORS SOAR\, a non-profit that supports wounded military veterans.
URL:https://warriorssoar.org/event/2026-arizona-golf-tournament-january-25/
LOCATION:Del Lago Golf Club\, 14155 E Via Rancho Del Lago\, Vail\, AZ\, 85641\, United States
CATEGORIES:Golf Classic
END:VEVENT
BEGIN:VEVENT
DTSTART;TZID=America/New_York:20251111T110000
DTEND;TZID=America/New_York:20251111T150000
DTSTAMP:20260420T101702
CREATED:20250313T135731Z
LAST-MODIFIED:20250313T202154Z
UID:10000307-1762858800-1762873200@warriorssoar.org
SUMMARY:2025 Texas Golf Tournament - November 11th
DESCRIPTION:Join us for this annual golf classic to benefit WARRIORS SOAR\, a non-profit that supports veterans.
URL:https://warriorssoar.org/event/2025-golf-tournament-november-11th/
LOCATION:Quarry Golf Course\, 444 E Basse Rd\, San Antonio\, TX\, 78209\, United States
CATEGORIES:Golf Classic
END:VEVENT
BEGIN:VEVENT
DTSTART;TZID=America/New_York:20251018T080000
DTEND;TZID=America/New_York:20251018T170000
DTSTAMP:20260420T101702
CREATED:20250620T195158Z
LAST-MODIFIED:20250825T163818Z
UID:10000373-1760774400-1760806800@warriorssoar.org
SUMMARY:2025 Virginia Golf Tournament - October 18th
DESCRIPTION:Join us for this annual golf classic to benefit WARRIORS SOAR\, a non-profit that supports wounded military veterans.
URL:https://warriorssoar.org/event/2025-virginia-golf-tournament-october-18th/
LOCATION:Hunting Hawk Golf Course\, 15201 Ashland Rd\, Glen Allen\, VA\, 23059\, United States
CATEGORIES:Golf Classic
END:VEVENT
BEGIN:VEVENT
DTSTART;TZID=America/New_York:20251006T110000
DTEND;TZID=America/New_York:20251006T150000
DTSTAMP:20260420T101702
CREATED:20250313T140024Z
LAST-MODIFIED:20250313T202109Z
UID:10000308-1759748400-1759762800@warriorssoar.org
SUMMARY:2025 Golf Tournament - Alpharetta GA October 6th
DESCRIPTION:Join us for this annual golf classic to benefit WARRIORS SOAR\, a non-profit that supports veterans.
URL:https://warriorssoar.org/event/golf-tournament-alpharetta-ga-october-6th/
LOCATION:Echelon Golf Club\, 501 Founders Drive E\, Alpharetta\, GA\, 30004\, United States
CATEGORIES:Golf Classic
END:VEVENT
BEGIN:VEVENT
DTSTART;TZID=America/New_York:20250818T110000
DTEND;TZID=America/New_York:20250818T150000
DTSTAMP:20260420T101702
CREATED:20250313T135406Z
LAST-MODIFIED:20250415T195633Z
UID:10000306-1755514800-1755529200@warriorssoar.org
SUMMARY:2025 Golf Tournament - Vermont - August 18th
DESCRIPTION:Join us for this annual golf classic to benefit WARRIORS SOAR\, a non-profit that supports veterans.
URL:https://warriorssoar.org/event/2025-golf-tournament-vermont-august-18th/
LOCATION:Ralph Myhre Golf Course\, 317 Golf Course Rd\, Middlebury\, VT\, 05753\, United States
CATEGORIES:Golf Classic
END:VEVENT
BEGIN:VEVENT
DTSTART;TZID=America/New_York:20250623T110000
DTEND;TZID=America/New_York:20250623T150000
DTSTAMP:20260420T101702
CREATED:20250313T115950Z
LAST-MODIFIED:20250313T135126Z
UID:10000305-1750676400-1750690800@warriorssoar.org
SUMMARY:2025 Golf Tournament Hiland Park Country Club Queensbury\, NY  June 23rd
DESCRIPTION:Join us for this annual golf classic to benefit WARRIORS SOAR\, a non-profit that supports veterans.
URL:https://warriorssoar.org/event/2025-golf-tournament-hiland-park-country-club-queensbury-ny-june-23rd/
LOCATION:Hiland Park Country Club\, 8702\, 195 Haviland Rd\, Queensbury\, NY 12804\, United States\, NY\, United States
CATEGORIES:Golf Classic
END:VEVENT
BEGIN:VEVENT
DTSTART;TZID=America/New_York:20250519T110000
DTEND;TZID=America/New_York:20250519T150000
DTSTAMP:20260420T101702
CREATED:20250313T114513Z
LAST-MODIFIED:20250313T120518Z
UID:10000304-1747652400-1747666800@warriorssoar.org
SUMMARY:2025 Cape Cod Golf Tournament May 19th
DESCRIPTION:Join us for this annual golf classic to benefit WARRIORS SOAR\, a non-profit that supports veterans.
URL:https://warriorssoar.org/event/warriors-soar-cape-cod-golf-tournament-may-19th/
LOCATION:Pocasset Golf Club\, 24 Clubhouse Drive\, Pocasset\, MA\, MA\, 02559\, United States
CATEGORIES:Golf Classic
END:VEVENT
BEGIN:VEVENT
DTSTART;TZID=America/New_York:20241111T080000
DTEND;TZID=America/New_York:20241111T170000
DTSTAMP:20260420T101702
CREATED:20240610T185424Z
LAST-MODIFIED:20240610T185424Z
UID:10000277-1731312000-1731344400@warriorssoar.org
SUMMARY:2024 Texas Veteran’s Day Golf Classic
DESCRIPTION:Join us for this annual golf classic to benefit WARRIORS SOAR\, a non-profit that supports veterans.
URL:https://warriorssoar.org/event/2024-texas-veterans-day-golf-classic/
LOCATION:Quarry Golf Course\, 444 E Basse Rd\, San Antonio\, TX\, 78209\, United States
CATEGORIES:Golf Classic
END:VEVENT
BEGIN:VEVENT
DTSTART;TZID=America/New_York:20241007T080000
DTEND;TZID=America/New_York:20241007T170000
DTSTAMP:20260420T101702
CREATED:20240610T185158Z
LAST-MODIFIED:20240610T185521Z
UID:10000276-1728288000-1728320400@warriorssoar.org
SUMMARY:2024 Georgia Golf Classic
DESCRIPTION:Welcome to 2024 Georgia WARRIORS SOAR Golf Classic. This is the 6th anniversary of this annual event and to date we have raised over $375\,000! Your sponsorship and support is the backbone to our success in supporting programs and services for our wounded veteran heroes. In addition to supporting Warriors Soar established programs\, we have sent 24 Veterans to Fantasy Baseball camp and donated over $28\,000 to local Veteran owned 501c3 non profit Charities in Georgia.
URL:https://warriorssoar.org/event/2024-georgia-golf-classic/
LOCATION:Echelon Golf Club\, 501 Founders Drive E\, Alpharetta\, GA\, 30004\, United States
CATEGORIES:Golf Classic
ORGANIZER;CN="Lane Perrins":MAILTO:lane@warriorssoar.org
END:VEVENT
BEGIN:VEVENT
DTSTART;TZID=America/New_York:20240819T080000
DTEND;TZID=America/New_York:20240819T170000
DTSTAMP:20260420T101702
CREATED:20240610T184920Z
LAST-MODIFIED:20240610T185701Z
UID:10000275-1724054400-1724086800@warriorssoar.org
SUMMARY:2024 Vermont Golf Classic
DESCRIPTION:Welcome to the 8th Annual Vermont Golf Classic! This tournament not only celebrates the sport of golf but also honors the brave men and women who have served our country. \nThe tournament will take place at the Neshobe Country Club in Brandon\, VT. \nAll proceeds go directly to support programs provided through WARRIORS SOAR supporting veterans and their families. Golfers from around the region come together to enjoy a day of golfing while supporting a noble cause. \nThe Vermont Golf Classic event is a testament to the community’s commitment to honoring and supporting those who have sacrificed so much for our country. It is a day of fun\, friendship\, and most importantly\, giving back.
URL:https://warriorssoar.org/event/2024-vermont-golf-classic/
LOCATION:Neshobe Country Club\, 224 Town Farm Rd\, Brandon\, VT\, 05733\, United States
CATEGORIES:Golf Classic
ORGANIZER;CN="Mark Grant":MAILTO:chris.mark88@yahoo.com
END:VEVENT
END:VCALENDAR