BEGIN:VCALENDAR
VERSION:2.0
PRODID:-//Warriors Soar - ECPv6.15.20//NONSGML v1.0//EN
CALSCALE:GREGORIAN
METHOD:PUBLISH
X-WR-CALNAME:Warriors Soar
X-ORIGINAL-URL:https://warriorssoar.org
X-WR-CALDESC:Events for Warriors Soar
REFRESH-INTERVAL;VALUE=DURATION:PT1H
X-Robots-Tag:noindex
X-PUBLISHED-TTL:PT1H
BEGIN:VTIMEZONE
TZID:America/New_York
BEGIN:DAYLIGHT
TZOFFSETFROM:-0500
TZOFFSETTO:-0400
TZNAME:EDT
DTSTART:20230312T070000
END:DAYLIGHT
BEGIN:STANDARD
TZOFFSETFROM:-0400
TZOFFSETTO:-0500
TZNAME:EST
DTSTART:20231105T060000
END:STANDARD
BEGIN:DAYLIGHT
TZOFFSETFROM:-0500
TZOFFSETTO:-0400
TZNAME:EDT
DTSTART:20240310T070000
END:DAYLIGHT
BEGIN:STANDARD
TZOFFSETFROM:-0400
TZOFFSETTO:-0500
TZNAME:EST
DTSTART:20241103T060000
END:STANDARD
BEGIN:DAYLIGHT
TZOFFSETFROM:-0500
TZOFFSETTO:-0400
TZNAME:EDT
DTSTART:20250309T070000
END:DAYLIGHT
BEGIN:STANDARD
TZOFFSETFROM:-0400
TZOFFSETTO:-0500
TZNAME:EST
DTSTART:20251102T060000
END:STANDARD
BEGIN:DAYLIGHT
TZOFFSETFROM:-0500
TZOFFSETTO:-0400
TZNAME:EDT
DTSTART:20260308T070000
END:DAYLIGHT
BEGIN:STANDARD
TZOFFSETFROM:-0400
TZOFFSETTO:-0500
TZNAME:EST
DTSTART:20261101T060000
END:STANDARD
END:VTIMEZONE
BEGIN:VEVENT
DTSTART;TZID=America/New_York:20250530T080000
DTEND;TZID=America/New_York:20250601T170000
DTSTAMP:20260423T154504
CREATED:20250313T140858Z
LAST-MODIFIED:20250317T180426Z
UID:10000310-1748592000-1748797200@warriorssoar.org
SUMMARY:2025 Fishing Tournament - Lake Bomoseen\, Vermont - May 30 - June 01
DESCRIPTION:
URL:https://warriorssoar.org/event/2025-fishing-tournament-lake-bomoseen-vermont-may-30-june-01/
LOCATION:Lake Bomoseen\, 636 Point of Pines Rd\, Castleton\, VT\, 05735\, United States
CATEGORIES:Fishing,General Events
ORGANIZER;CN="Mike Ahearn":MAILTO:mike@warriorssoar.org
END:VEVENT
BEGIN:VEVENT
DTSTART;TZID=America/New_York:20250329T080000
DTEND;TZID=America/New_York:20250402T170000
DTSTAMP:20260423T154504
CREATED:20250313T140744Z
LAST-MODIFIED:20250313T140744Z
UID:10000309-1743235200-1743613200@warriorssoar.org
SUMMARY:Guest Speaking Engagement and attending Collision Repair Education Foundation  — 29 March - April 02
DESCRIPTION:
URL:https://warriorssoar.org/event/guest-speaking-engagement-and-attending-collision-repair-education-foundation-29-march-april-02/
LOCATION:VT
CATEGORIES:General Events
END:VEVENT
BEGIN:VEVENT
DTSTART;TZID=America/New_York:20240916T080000
DTEND;TZID=America/New_York:20240916T170000
DTSTAMP:20260423T154504
CREATED:20240629T161517Z
LAST-MODIFIED:20240629T161517Z
UID:10000281-1726473600-1726506000@warriorssoar.org
SUMMARY:Rutland Whoopie Pie Festival
DESCRIPTION:Come see Warriors Soar at the Rutland Whoopie Pie Festival!
URL:https://warriorssoar.org/event/rutland-whoopie-pie-festival/
LOCATION:Rutland Whoopie Pie Festival\, Center Street & Merchants Row\, Rutland\, VT\, 05701\, United States
CATEGORIES:General Events
END:VEVENT
BEGIN:VEVENT
DTSTART;TZID=America/New_York:20240725T080000
DTEND;TZID=America/New_York:20240728T170000
DTSTAMP:20260423T154504
CREATED:20240629T160954Z
LAST-MODIFIED:20240629T160954Z
UID:10000279-1721894400-1722186000@warriorssoar.org
SUMMARY:Brandon Carnival
DESCRIPTION:Come see Warriors Soar at the Brandon Carnival!
URL:https://warriorssoar.org/event/brandon-carnival/
LOCATION:Estabrook Field\, Estabrook Field\, Route 7\, Brandon\, VT\, 05733\, United States
CATEGORIES:General Events
END:VEVENT
BEGIN:VEVENT
DTSTART;TZID=America/New_York:20240703T080000
DTEND;TZID=America/New_York:20240707T170000
DTSTAMP:20260423T154504
CREATED:20240629T160625Z
LAST-MODIFIED:20240629T160625Z
UID:10000278-1719993600-1720371600@warriorssoar.org
SUMMARY:RV Show
DESCRIPTION:Come see Warriors Soar at the RV Show at Country Village Campground in Leicester\, VT.
URL:https://warriorssoar.org/event/rv-show/
LOCATION:Country Village Campground\, 40 Route 7\, Leicester\, VT\, 05744\, United States
CATEGORIES:General Events
END:VEVENT
END:VCALENDAR